BEGIN:VCALENDAR
VERSION:2.0
PRODID:-//garbage//solingen//EN
CALSCALE:GREGORIAN
X-WR-TIMEZONE:Europe/Berlin
BEGIN:VEVENT
UID:abfall-rest-2026-01-03@abfallnavi-solingen
DTSTAMP:20260415T095520Z
DTSTART;TZID=Europe/Berlin:20260103T070000
DTEND;TZID=Europe/Berlin:20260103T130000
SUMMARY:Restmüll
END:VEVENT
BEGIN:VEVENT
UID:abfall-rest-2026-01-09@abfallnavi-solingen
DTSTAMP:20260415T095520Z
DTSTART;TZID=Europe/Berlin:20260109T070000
DTEND;TZID=Europe/Berlin:20260109T130000
SUMMARY:Restmüll
END:VEVENT
BEGIN:VEVENT
UID:abfall-blue-2026-01-12@abfallnavi-solingen
DTSTAMP:20260415T095520Z
DTSTART;TZID=Europe/Berlin:20260112T070000
DTEND;TZID=Europe/Berlin:20260112T130000
SUMMARY:Blaue Tonne
END:VEVENT
BEGIN:VEVENT
UID:abfall-yellow-2026-01-12@abfallnavi-solingen
DTSTAMP:20260415T095520Z
DTSTART;TZID=Europe/Berlin:20260112T070000
DTEND;TZID=Europe/Berlin:20260112T130000
SUMMARY:Gelbe Tonne
END:VEVENT
BEGIN:VEVENT
UID:abfall-tree-2026-01-16@abfallnavi-solingen
DTSTAMP:20260415T095520Z
DTSTART;TZID=Europe/Berlin:20260116T070000
DTEND;TZID=Europe/Berlin:20260116T130000
SUMMARY:Weihnachtsbaum
END:VEVENT
BEGIN:VEVENT
UID:abfall-rest-2026-01-17@abfallnavi-solingen
DTSTAMP:20260415T095520Z
DTSTART;TZID=Europe/Berlin:20260117T070000
DTEND;TZID=Europe/Berlin:20260117T130000
SUMMARY:Restmüll
END:VEVENT
BEGIN:VEVENT
UID:abfall-rest-2026-01-23@abfallnavi-solingen
DTSTAMP:20260415T095520Z
DTSTART;TZID=Europe/Berlin:20260123T070000
DTEND;TZID=Europe/Berlin:20260123T130000
SUMMARY:Restmüll
END:VEVENT
BEGIN:VEVENT
UID:abfall-rest-2026-01-30@abfallnavi-solingen
DTSTAMP:20260415T095520Z
DTSTART;TZID=Europe/Berlin:20260130T070000
DTEND;TZID=Europe/Berlin:20260130T130000
SUMMARY:Restmüll
END:VEVENT
BEGIN:VEVENT
UID:abfall-rest-2026-02-06@abfallnavi-solingen
DTSTAMP:20260415T095520Z
DTSTART;TZID=Europe/Berlin:20260206T070000
DTEND;TZID=Europe/Berlin:20260206T130000
SUMMARY:Restmüll
END:VEVENT
BEGIN:VEVENT
UID:abfall-blue-2026-02-09@abfallnavi-solingen
DTSTAMP:20260415T095520Z
DTSTART;TZID=Europe/Berlin:20260209T070000
DTEND;TZID=Europe/Berlin:20260209T130000
SUMMARY:Blaue Tonne
END:VEVENT
BEGIN:VEVENT
UID:abfall-yellow-2026-02-09@abfallnavi-solingen
DTSTAMP:20260415T095520Z
DTSTART;TZID=Europe/Berlin:20260209T070000
DTEND;TZID=Europe/Berlin:20260209T130000
SUMMARY:Gelbe Tonne
END:VEVENT
BEGIN:VEVENT
UID:abfall-rest-2026-02-13@abfallnavi-solingen
DTSTAMP:20260415T095520Z
DTSTART;TZID=Europe/Berlin:20260213T070000
DTEND;TZID=Europe/Berlin:20260213T130000
SUMMARY:Restmüll
END:VEVENT
BEGIN:VEVENT
UID:abfall-rest-2026-02-20@abfallnavi-solingen
DTSTAMP:20260415T095520Z
DTSTART;TZID=Europe/Berlin:20260220T070000
DTEND;TZID=Europe/Berlin:20260220T130000
SUMMARY:Restmüll
END:VEVENT
BEGIN:VEVENT
UID:abfall-rest-2026-02-27@abfallnavi-solingen
DTSTAMP:20260415T095520Z
DTSTART;TZID=Europe/Berlin:20260227T070000
DTEND;TZID=Europe/Berlin:20260227T130000
SUMMARY:Restmüll
END:VEVENT
BEGIN:VEVENT
UID:abfall-rest-2026-03-06@abfallnavi-solingen
DTSTAMP:20260415T095520Z
DTSTART;TZID=Europe/Berlin:20260306T070000
DTEND;TZID=Europe/Berlin:20260306T130000
SUMMARY:Restmüll
END:VEVENT
BEGIN:VEVENT
UID:abfall-blue-2026-03-09@abfallnavi-solingen
DTSTAMP:20260415T095520Z
DTSTART;TZID=Europe/Berlin:20260309T070000
DTEND;TZID=Europe/Berlin:20260309T130000
SUMMARY:Blaue Tonne
END:VEVENT
BEGIN:VEVENT
UID:abfall-yellow-2026-03-09@abfallnavi-solingen
DTSTAMP:20260415T095520Z
DTSTART;TZID=Europe/Berlin:20260309T070000
DTEND;TZID=Europe/Berlin:20260309T130000
SUMMARY:Gelbe Tonne
END:VEVENT
BEGIN:VEVENT
UID:abfall-rest-2026-03-13@abfallnavi-solingen
DTSTAMP:20260415T095520Z
DTSTART;TZID=Europe/Berlin:20260313T070000
DTEND;TZID=Europe/Berlin:20260313T130000
SUMMARY:Restmüll
END:VEVENT
BEGIN:VEVENT
UID:abfall-rest-2026-03-20@abfallnavi-solingen
DTSTAMP:20260415T095520Z
DTSTART;TZID=Europe/Berlin:20260320T070000
DTEND;TZID=Europe/Berlin:20260320T130000
SUMMARY:Restmüll
END:VEVENT
BEGIN:VEVENT
UID:abfall-rest-2026-03-27@abfallnavi-solingen
DTSTAMP:20260415T095520Z
DTSTART;TZID=Europe/Berlin:20260327T070000
DTEND;TZID=Europe/Berlin:20260327T130000
SUMMARY:Restmüll
END:VEVENT
BEGIN:VEVENT
UID:abfall-rest-2026-04-02@abfallnavi-solingen
DTSTAMP:20260415T095520Z
DTSTART;TZID=Europe/Berlin:20260402T070000
DTEND;TZID=Europe/Berlin:20260402T130000
SUMMARY:Restmüll
END:VEVENT
BEGIN:VEVENT
UID:abfall-blue-2026-04-07@abfallnavi-solingen
DTSTAMP:20260415T095520Z
DTSTART;TZID=Europe/Berlin:20260407T070000
DTEND;TZID=Europe/Berlin:20260407T130000
SUMMARY:Blaue Tonne
END:VEVENT
BEGIN:VEVENT
UID:abfall-yellow-2026-04-07@abfallnavi-solingen
DTSTAMP:20260415T095520Z
DTSTART;TZID=Europe/Berlin:20260407T070000
DTEND;TZID=Europe/Berlin:20260407T130000
SUMMARY:Gelbe Tonne
END:VEVENT
BEGIN:VEVENT
UID:abfall-rest-2026-04-11@abfallnavi-solingen
DTSTAMP:20260415T095520Z
DTSTART;TZID=Europe/Berlin:20260411T070000
DTEND;TZID=Europe/Berlin:20260411T130000
SUMMARY:Restmüll
END:VEVENT
BEGIN:VEVENT
UID:abfall-rest-2026-04-17@abfallnavi-solingen
DTSTAMP:20260415T095520Z
DTSTART;TZID=Europe/Berlin:20260417T070000
DTEND;TZID=Europe/Berlin:20260417T130000
SUMMARY:Restmüll
END:VEVENT
BEGIN:VEVENT
UID:abfall-rest-2026-04-24@abfallnavi-solingen
DTSTAMP:20260415T095520Z
DTSTART;TZID=Europe/Berlin:20260424T070000
DTEND;TZID=Europe/Berlin:20260424T130000
SUMMARY:Restmüll
END:VEVENT
BEGIN:VEVENT
UID:abfall-rest-2026-05-02@abfallnavi-solingen
DTSTAMP:20260415T095520Z
DTSTART;TZID=Europe/Berlin:20260502T070000
DTEND;TZID=Europe/Berlin:20260502T130000
SUMMARY:Restmüll
END:VEVENT
BEGIN:VEVENT
UID:abfall-blue-2026-05-04@abfallnavi-solingen
DTSTAMP:20260415T095520Z
DTSTART;TZID=Europe/Berlin:20260504T070000
DTEND;TZID=Europe/Berlin:20260504T130000
SUMMARY:Blaue Tonne
END:VEVENT
BEGIN:VEVENT
UID:abfall-yellow-2026-05-04@abfallnavi-solingen
DTSTAMP:20260415T095520Z
DTSTART;TZID=Europe/Berlin:20260504T070000
DTEND;TZID=Europe/Berlin:20260504T130000
SUMMARY:Gelbe Tonne
END:VEVENT
BEGIN:VEVENT
UID:abfall-rest-2026-05-08@abfallnavi-solingen
DTSTAMP:20260415T095520Z
DTSTART;TZID=Europe/Berlin:20260508T070000
DTEND;TZID=Europe/Berlin:20260508T130000
SUMMARY:Restmüll
END:VEVENT
BEGIN:VEVENT
UID:abfall-rest-2026-05-16@abfallnavi-solingen
DTSTAMP:20260415T095520Z
DTSTART;TZID=Europe/Berlin:20260516T070000
DTEND;TZID=Europe/Berlin:20260516T130000
SUMMARY:Restmüll
END:VEVENT
BEGIN:VEVENT
UID:abfall-rest-2026-05-22@abfallnavi-solingen
DTSTAMP:20260415T095520Z
DTSTART;TZID=Europe/Berlin:20260522T070000
DTEND;TZID=Europe/Berlin:20260522T130000
SUMMARY:Restmüll
END:VEVENT
BEGIN:VEVENT
UID:abfall-rest-2026-05-30@abfallnavi-solingen
DTSTAMP:20260415T095520Z
DTSTART;TZID=Europe/Berlin:20260530T070000
DTEND;TZID=Europe/Berlin:20260530T130000
SUMMARY:Restmüll
END:VEVENT
BEGIN:VEVENT
UID:abfall-blue-2026-06-01@abfallnavi-solingen
DTSTAMP:20260415T095520Z
DTSTART;TZID=Europe/Berlin:20260601T070000
DTEND;TZID=Europe/Berlin:20260601T130000
SUMMARY:Blaue Tonne
END:VEVENT
BEGIN:VEVENT
UID:abfall-yellow-2026-06-01@abfallnavi-solingen
DTSTAMP:20260415T095520Z
DTSTART;TZID=Europe/Berlin:20260601T070000
DTEND;TZID=Europe/Berlin:20260601T130000
SUMMARY:Gelbe Tonne
END:VEVENT
BEGIN:VEVENT
UID:abfall-rest-2026-06-06@abfallnavi-solingen
DTSTAMP:20260415T095520Z
DTSTART;TZID=Europe/Berlin:20260606T070000
DTEND;TZID=Europe/Berlin:20260606T130000
SUMMARY:Restmüll
END:VEVENT
BEGIN:VEVENT
UID:abfall-rest-2026-06-12@abfallnavi-solingen
DTSTAMP:20260415T095520Z
DTSTART;TZID=Europe/Berlin:20260612T070000
DTEND;TZID=Europe/Berlin:20260612T130000
SUMMARY:Restmüll
END:VEVENT
BEGIN:VEVENT
UID:abfall-rest-2026-06-19@abfallnavi-solingen
DTSTAMP:20260415T095520Z
DTSTART;TZID=Europe/Berlin:20260619T070000
DTEND;TZID=Europe/Berlin:20260619T130000
SUMMARY:Restmüll
END:VEVENT
BEGIN:VEVENT
UID:abfall-rest-2026-06-26@abfallnavi-solingen
DTSTAMP:20260415T095520Z
DTSTART;TZID=Europe/Berlin:20260626T070000
DTEND;TZID=Europe/Berlin:20260626T130000
SUMMARY:Restmüll
END:VEVENT
BEGIN:VEVENT
UID:abfall-blue-2026-06-29@abfallnavi-solingen
DTSTAMP:20260415T095520Z
DTSTART;TZID=Europe/Berlin:20260629T070000
DTEND;TZID=Europe/Berlin:20260629T130000
SUMMARY:Blaue Tonne
END:VEVENT
BEGIN:VEVENT
UID:abfall-yellow-2026-06-29@abfallnavi-solingen
DTSTAMP:20260415T095520Z
DTSTART;TZID=Europe/Berlin:20260629T070000
DTEND;TZID=Europe/Berlin:20260629T130000
SUMMARY:Gelbe Tonne
END:VEVENT
BEGIN:VEVENT
UID:abfall-rest-2026-07-03@abfallnavi-solingen
DTSTAMP:20260415T095520Z
DTSTART;TZID=Europe/Berlin:20260703T070000
DTEND;TZID=Europe/Berlin:20260703T130000
SUMMARY:Restmüll
END:VEVENT
BEGIN:VEVENT
UID:abfall-rest-2026-07-10@abfallnavi-solingen
DTSTAMP:20260415T095520Z
DTSTART;TZID=Europe/Berlin:20260710T070000
DTEND;TZID=Europe/Berlin:20260710T130000
SUMMARY:Restmüll
END:VEVENT
BEGIN:VEVENT
UID:abfall-rest-2026-07-17@abfallnavi-solingen
DTSTAMP:20260415T095520Z
DTSTART;TZID=Europe/Berlin:20260717T070000
DTEND;TZID=Europe/Berlin:20260717T130000
SUMMARY:Restmüll
END:VEVENT
BEGIN:VEVENT
UID:abfall-rest-2026-07-24@abfallnavi-solingen
DTSTAMP:20260415T095520Z
DTSTART;TZID=Europe/Berlin:20260724T070000
DTEND;TZID=Europe/Berlin:20260724T130000
SUMMARY:Restmüll
END:VEVENT
BEGIN:VEVENT
UID:abfall-blue-2026-07-27@abfallnavi-solingen
DTSTAMP:20260415T095520Z
DTSTART;TZID=Europe/Berlin:20260727T070000
DTEND;TZID=Europe/Berlin:20260727T130000
SUMMARY:Blaue Tonne
END:VEVENT
BEGIN:VEVENT
UID:abfall-yellow-2026-07-27@abfallnavi-solingen
DTSTAMP:20260415T095520Z
DTSTART;TZID=Europe/Berlin:20260727T070000
DTEND;TZID=Europe/Berlin:20260727T130000
SUMMARY:Gelbe Tonne
END:VEVENT
BEGIN:VEVENT
UID:abfall-rest-2026-07-31@abfallnavi-solingen
DTSTAMP:20260415T095520Z
DTSTART;TZID=Europe/Berlin:20260731T070000
DTEND;TZID=Europe/Berlin:20260731T130000
SUMMARY:Restmüll
END:VEVENT
BEGIN:VEVENT
UID:abfall-rest-2026-08-07@abfallnavi-solingen
DTSTAMP:20260415T095520Z
DTSTART;TZID=Europe/Berlin:20260807T070000
DTEND;TZID=Europe/Berlin:20260807T130000
SUMMARY:Restmüll
END:VEVENT
BEGIN:VEVENT
UID:abfall-rest-2026-08-14@abfallnavi-solingen
DTSTAMP:20260415T095520Z
DTSTART;TZID=Europe/Berlin:20260814T070000
DTEND;TZID=Europe/Berlin:20260814T130000
SUMMARY:Restmüll
END:VEVENT
BEGIN:VEVENT
UID:abfall-rest-2026-08-21@abfallnavi-solingen
DTSTAMP:20260415T095520Z
DTSTART;TZID=Europe/Berlin:20260821T070000
DTEND;TZID=Europe/Berlin:20260821T130000
SUMMARY:Restmüll
END:VEVENT
BEGIN:VEVENT
UID:abfall-blue-2026-08-24@abfallnavi-solingen
DTSTAMP:20260415T095520Z
DTSTART;TZID=Europe/Berlin:20260824T070000
DTEND;TZID=Europe/Berlin:20260824T130000
SUMMARY:Blaue Tonne
END:VEVENT
BEGIN:VEVENT
UID:abfall-yellow-2026-08-24@abfallnavi-solingen
DTSTAMP:20260415T095520Z
DTSTART;TZID=Europe/Berlin:20260824T070000
DTEND;TZID=Europe/Berlin:20260824T130000
SUMMARY:Gelbe Tonne
END:VEVENT
BEGIN:VEVENT
UID:abfall-rest-2026-08-28@abfallnavi-solingen
DTSTAMP:20260415T095520Z
DTSTART;TZID=Europe/Berlin:20260828T070000
DTEND;TZID=Europe/Berlin:20260828T130000
SUMMARY:Restmüll
END:VEVENT
BEGIN:VEVENT
UID:abfall-rest-2026-09-04@abfallnavi-solingen
DTSTAMP:20260415T095520Z
DTSTART;TZID=Europe/Berlin:20260904T070000
DTEND;TZID=Europe/Berlin:20260904T130000
SUMMARY:Restmüll
END:VEVENT
BEGIN:VEVENT
UID:abfall-rest-2026-09-11@abfallnavi-solingen
DTSTAMP:20260415T095520Z
DTSTART;TZID=Europe/Berlin:20260911T070000
DTEND;TZID=Europe/Berlin:20260911T130000
SUMMARY:Restmüll
END:VEVENT
BEGIN:VEVENT
UID:abfall-rest-2026-09-18@abfallnavi-solingen
DTSTAMP:20260415T095520Z
DTSTART;TZID=Europe/Berlin:20260918T070000
DTEND;TZID=Europe/Berlin:20260918T130000
SUMMARY:Restmüll
END:VEVENT
BEGIN:VEVENT
UID:abfall-blue-2026-09-21@abfallnavi-solingen
DTSTAMP:20260415T095520Z
DTSTART;TZID=Europe/Berlin:20260921T070000
DTEND;TZID=Europe/Berlin:20260921T130000
SUMMARY:Blaue Tonne
END:VEVENT
BEGIN:VEVENT
UID:abfall-yellow-2026-09-21@abfallnavi-solingen
DTSTAMP:20260415T095520Z
DTSTART;TZID=Europe/Berlin:20260921T070000
DTEND;TZID=Europe/Berlin:20260921T130000
SUMMARY:Gelbe Tonne
END:VEVENT
BEGIN:VEVENT
UID:abfall-rest-2026-09-25@abfallnavi-solingen
DTSTAMP:20260415T095520Z
DTSTART;TZID=Europe/Berlin:20260925T070000
DTEND;TZID=Europe/Berlin:20260925T130000
SUMMARY:Restmüll
END:VEVENT
BEGIN:VEVENT
UID:abfall-rest-2026-10-02@abfallnavi-solingen
DTSTAMP:20260415T095520Z
DTSTART;TZID=Europe/Berlin:20261002T070000
DTEND;TZID=Europe/Berlin:20261002T130000
SUMMARY:Restmüll
END:VEVENT
BEGIN:VEVENT
UID:abfall-rest-2026-10-09@abfallnavi-solingen
DTSTAMP:20260415T095520Z
DTSTART;TZID=Europe/Berlin:20261009T070000
DTEND;TZID=Europe/Berlin:20261009T130000
SUMMARY:Restmüll
END:VEVENT
BEGIN:VEVENT
UID:abfall-rest-2026-10-16@abfallnavi-solingen
DTSTAMP:20260415T095520Z
DTSTART;TZID=Europe/Berlin:20261016T070000
DTEND;TZID=Europe/Berlin:20261016T130000
SUMMARY:Restmüll
END:VEVENT
BEGIN:VEVENT
UID:abfall-blue-2026-10-19@abfallnavi-solingen
DTSTAMP:20260415T095520Z
DTSTART;TZID=Europe/Berlin:20261019T070000
DTEND;TZID=Europe/Berlin:20261019T130000
SUMMARY:Blaue Tonne
END:VEVENT
BEGIN:VEVENT
UID:abfall-yellow-2026-10-19@abfallnavi-solingen
DTSTAMP:20260415T095520Z
DTSTART;TZID=Europe/Berlin:20261019T070000
DTEND;TZID=Europe/Berlin:20261019T130000
SUMMARY:Gelbe Tonne
END:VEVENT
BEGIN:VEVENT
UID:abfall-rest-2026-10-23@abfallnavi-solingen
DTSTAMP:20260415T095520Z
DTSTART;TZID=Europe/Berlin:20261023T070000
DTEND;TZID=Europe/Berlin:20261023T130000
SUMMARY:Restmüll
END:VEVENT
BEGIN:VEVENT
UID:abfall-rest-2026-10-30@abfallnavi-solingen
DTSTAMP:20260415T095520Z
DTSTART;TZID=Europe/Berlin:20261030T070000
DTEND;TZID=Europe/Berlin:20261030T130000
SUMMARY:Restmüll
END:VEVENT
BEGIN:VEVENT
UID:abfall-rest-2026-11-06@abfallnavi-solingen
DTSTAMP:20260415T095520Z
DTSTART;TZID=Europe/Berlin:20261106T070000
DTEND;TZID=Europe/Berlin:20261106T130000
SUMMARY:Restmüll
END:VEVENT
BEGIN:VEVENT
UID:abfall-rest-2026-11-13@abfallnavi-solingen
DTSTAMP:20260415T095520Z
DTSTART;TZID=Europe/Berlin:20261113T070000
DTEND;TZID=Europe/Berlin:20261113T130000
SUMMARY:Restmüll
END:VEVENT
BEGIN:VEVENT
UID:abfall-blue-2026-11-16@abfallnavi-solingen
DTSTAMP:20260415T095520Z
DTSTART;TZID=Europe/Berlin:20261116T070000
DTEND;TZID=Europe/Berlin:20261116T130000
SUMMARY:Blaue Tonne
END:VEVENT
BEGIN:VEVENT
UID:abfall-yellow-2026-11-16@abfallnavi-solingen
DTSTAMP:20260415T095520Z
DTSTART;TZID=Europe/Berlin:20261116T070000
DTEND;TZID=Europe/Berlin:20261116T130000
SUMMARY:Gelbe Tonne
END:VEVENT
BEGIN:VEVENT
UID:abfall-rest-2026-11-20@abfallnavi-solingen
DTSTAMP:20260415T095520Z
DTSTART;TZID=Europe/Berlin:20261120T070000
DTEND;TZID=Europe/Berlin:20261120T130000
SUMMARY:Restmüll
END:VEVENT
BEGIN:VEVENT
UID:abfall-rest-2026-11-27@abfallnavi-solingen
DTSTAMP:20260415T095520Z
DTSTART;TZID=Europe/Berlin:20261127T070000
DTEND;TZID=Europe/Berlin:20261127T130000
SUMMARY:Restmüll
END:VEVENT
BEGIN:VEVENT
UID:abfall-rest-2026-12-04@abfallnavi-solingen
DTSTAMP:20260415T095520Z
DTSTART;TZID=Europe/Berlin:20261204T070000
DTEND;TZID=Europe/Berlin:20261204T130000
SUMMARY:Restmüll
END:VEVENT
BEGIN:VEVENT
UID:abfall-rest-2026-12-11@abfallnavi-solingen
DTSTAMP:20260415T095520Z
DTSTART;TZID=Europe/Berlin:20261211T070000
DTEND;TZID=Europe/Berlin:20261211T130000
SUMMARY:Restmüll
END:VEVENT
BEGIN:VEVENT
UID:abfall-blue-2026-12-14@abfallnavi-solingen
DTSTAMP:20260415T095520Z
DTSTART;TZID=Europe/Berlin:20261214T070000
DTEND;TZID=Europe/Berlin:20261214T130000
SUMMARY:Blaue Tonne
END:VEVENT
BEGIN:VEVENT
UID:abfall-yellow-2026-12-14@abfallnavi-solingen
DTSTAMP:20260415T095520Z
DTSTART;TZID=Europe/Berlin:20261214T070000
DTEND;TZID=Europe/Berlin:20261214T130000
SUMMARY:Gelbe Tonne
END:VEVENT
BEGIN:VEVENT
UID:abfall-rest-2026-12-18@abfallnavi-solingen
DTSTAMP:20260415T095520Z
DTSTART;TZID=Europe/Berlin:20261218T070000
DTEND;TZID=Europe/Berlin:20261218T130000
SUMMARY:Restmüll
END:VEVENT
BEGIN:VEVENT
UID:abfall-rest-2026-12-24@abfallnavi-solingen
DTSTAMP:20260415T095520Z
DTSTART;TZID=Europe/Berlin:20261224T070000
DTEND;TZID=Europe/Berlin:20261224T130000
SUMMARY:Restmüll
END:VEVENT
END:VCALENDAR
